BEGIN:VCALENDAR
VERSION:2.0
PRODID:-//Tukios.com/
BEGIN:VEVENT
UID:86489c47-82fc-4d1c-bf2f-6d0b1e38ac43@www.vankirkgrisellfuneralhome.com
DTSTAMP:20260424T204208Z
DTSTART:20260427T180000Z
DTEND:20260427T190000Z
SUMMARY:Funeral Service
DESCRIPTION:
URL:https://www.vankirkgrisellfuneralhome.com/obituaries/willard-rucker
LOCATION:Vankirk-Grisell Funeral Home 607 Master St.  Corbin KY 40701
GEO:36.9520508;-84.0892402
END:VEVENT
END:VCALENDAR