BEGIN:VCALENDAR
VERSION:2.0
PRODID:-//Tukios.com/
BEGIN:VEVENT
UID:f6bb2faf-796e-4917-8a5a-7c06f7cf4de3@www.vankirkgrisellfuneralhome.com
DTSTAMP:20260424T204500Z
DTSTART:20260427T160000Z
DTEND:20260427T180000Z
SUMMARY:Visitation
DESCRIPTION:
URL:https://www.vankirkgrisellfuneralhome.com/obituaries/willard-rucker
LOCATION:Vankirk-Grisell Funeral Home 607 Master St.  Corbin KY 40701
GEO:36.9520508;-84.0892402
END:VEVENT
END:VCALENDAR