BEGIN:VCALENDAR
VERSION:2.0
PRODID:-//Tukios.com/
BEGIN:VEVENT
UID:ed467536-3b49-4595-8286-dd591aec9d08@www.vankirkgrisellfuneralhome.com
DTSTAMP:20260421T103142Z
DTSTART:20260423T180000Z
DTEND:20260423T190000Z
SUMMARY:Funeral Service
DESCRIPTION:
URL:https://www.vankirkgrisellfuneralhome.com/obituaries/troy-engle-jr
LOCATION:Vankirk-Grisell Funeral Home 607 Master St.  Corbin KY 40701
GEO:36.9520508;-84.0892402
END:VEVENT
END:VCALENDAR