BEGIN:VCALENDAR
VERSION:2.0
PRODID:-//Tukios.com/
BEGIN:VEVENT
UID:6620a569-cd81-46eb-82d4-188129dd7f3b@www.vankirkgrisellfuneralhome.com
DTSTAMP:20260421T103709Z
DTSTART:20260422T220000Z
DTEND:20260423T010000Z
SUMMARY:Visitation
DESCRIPTION:
URL:https://www.vankirkgrisellfuneralhome.com/obituaries/troy-engle-jr
LOCATION:Vankirk-Grisell Funeral Home 607 Master St.  Corbin KY 40701
GEO:36.9520508;-84.0892402
END:VEVENT
END:VCALENDAR