BEGIN:VCALENDAR
VERSION:2.0
PRODID:-//Tukios.com/
BEGIN:VEVENT
UID:795bbb89-fe9a-49c1-b1f1-d5c6b2bd41fa@www.vankirkgrisellfuneralhome.com
DTSTAMP:20260423T183920Z
DTSTART:20260502T150000Z
DTEND:20260502T160000Z
SUMMARY:Graveside Service
DESCRIPTION:
URL:https://www.vankirkgrisellfuneralhome.com/obituaries/doris-back
LOCATION:Pine Hill Cemetery  Pine Hill Cemetery Road A  Corbin KY 40701
GEO:36.9561345;-84.0837648
END:VEVENT
END:VCALENDAR